BEGIN:VCALENDAR
VERSION:2.0
PRODID:millstreamcms
METHOD:PUBLISH
UID:2k2o7m44uekcrjuirth9fr36b0@google.com
BEGIN:VEVENT
SUMMARY:School Board Open Meeting
DESCRIPTION:
DTSTAMP:20200301T215547Z
DTSTART:20191202T073000Z
DTEND:20191202T090000Z
LOCATION:
END:VEVENT
END:VCALENDAR
