BEGIN:VCALENDAR
VERSION:2.0
PRODID:millstreamcms
METHOD:PUBLISH
UID:2loccvrkt9v2nd3qnv89jqgehs@google.com
BEGIN:VEVENT
SUMMARY:P&C Xmas Singalong
DESCRIPTION:
DTSTAMP:20200301T215645Z
DTSTART:20191213T093000Z
DTEND:20191213T113000Z
LOCATION:
END:VEVENT
END:VCALENDAR
