BEGIN:VCALENDAR
VERSION:2.0
PRODID:millstreamcms
METHOD:PUBLISH
UID:2reanumu19u1a7cv76b60737uc@google.com
BEGIN:VEVENT
SUMMARY:JFSC Year 7 Orientation Day
DESCRIPTION:
DTSTAMP:20200301T215534Z
DTSTART:20191202
DTEND:20191203
LOCATION:
END:VEVENT
END:VCALENDAR
