BEGIN:VCALENDAR
VERSION:2.0
PRODID:millstreamcms
METHOD:PUBLISH
UID:33mjpclaqberfi7stnn07mieq7@google.com
BEGIN:VEVENT
SUMMARY:Bookweek
DESCRIPTION:
DTSTAMP:20200301T222355Z
DTSTART:20190819
DTEND:20190824
LOCATION:
END:VEVENT
END:VCALENDAR
