BEGIN:VCALENDAR
VERSION:2.0
PRODID:millstreamcms
METHOD:PUBLISH
UID:37v87j4o1mdhqm0diuej170oi0@google.com
BEGIN:VEVENT
SUMMARY:PP Bunnings Incursion
DESCRIPTION:
DTSTAMP:20200301T222401Z
DTSTART:20190820
DTEND:20190821
LOCATION:
END:VEVENT
END:VCALENDAR
