BEGIN:VCALENDAR
VERSION:2.0
PRODID:millstreamcms
METHOD:PUBLISH
UID:3abb2n0lmhi90uuasabphka91j@google.com
BEGIN:VEVENT
SUMMARY:Arts Night
DESCRIPTION:
DTSTAMP:20200301T220400Z
DTSTART:20191114T090000Z
DTEND:20191114T110000Z
LOCATION:
END:VEVENT
END:VCALENDAR
