BEGIN:VCALENDAR
VERSION:2.0
PRODID:millstreamcms
METHOD:PUBLISH
UID:3ajqr8shbiga4f9mkn2bnpvht5@google.com
BEGIN:VEVENT
SUMMARY:2020 Kindy Orientation
DESCRIPTION:
DTSTAMP:20200301T215600Z
DTSTART:20191204T010000Z
DTEND:20191204T020000Z
LOCATION:
END:VEVENT
END:VCALENDAR
