BEGIN:VCALENDAR
VERSION:2.0
PRODID:millstreamcms
METHOD:PUBLISH
UID:3b7rlkqeesqoehub5thchalv9p@google.com
BEGIN:VEVENT
SUMMARY:School Development Day
DESCRIPTION:
DTSTAMP:20200301T220937Z
DTSTART:20191014
DTEND:20191015
LOCATION:
END:VEVENT
END:VCALENDAR
