BEGIN:VCALENDAR
VERSION:2.0
PRODID:millstreamcms
METHOD:PUBLISH
UID:3mcuu5tbd2ragbaldpl80ma7mk@google.com
BEGIN:VEVENT
SUMMARY:Newsletter
DESCRIPTION:
DTSTAMP:20200301T222308Z
DTSTART:20190809
DTEND:20190810
LOCATION:
END:VEVENT
END:VCALENDAR
