BEGIN:VCALENDAR
VERSION:2.0
PRODID:millstreamcms
METHOD:PUBLISH
UID:3mcuu5tbd2ragbaldpl80ma7mk@google.com
BEGIN:VEVENT
SUMMARY:Newsletter
DESCRIPTION:
DTSTAMP:20200301T222418Z
DTSTART:20190823
DTEND:20190824
LOCATION:
END:VEVENT
END:VCALENDAR
