BEGIN:VCALENDAR
VERSION:2.0
PRODID:millstreamcms
METHOD:PUBLISH
UID:3u1r90rf4sl5p2t3nfc0ev93eb@google.com
BEGIN:VEVENT
SUMMARY:Year 5/6 Lunchtime Faction AFL
DESCRIPTION:
DTSTAMP:20200301T220410Z
DTSTART:20191115T043000Z
DTEND:20191115T050000Z
LOCATION:
END:VEVENT
END:VCALENDAR
