BEGIN:VCALENDAR
VERSION:2.0
PRODID:millstreamcms
METHOD:PUBLISH
UID:42rv61o0io7nd41p6ssr1vaqrd@google.com
BEGIN:VEVENT
SUMMARY:Last Day for Students
DESCRIPTION:
DTSTAMP:20200301T215702Z
DTSTART:20191219
DTEND:20191220
LOCATION:
END:VEVENT
END:VCALENDAR
