BEGIN:VCALENDAR
VERSION:2.0
PRODID:millstreamcms
METHOD:PUBLISH
UID:44nj7sdf7qtv4t8mnhh90s4912@google.com
BEGIN:VEVENT
SUMMARY:Kindy C & E Funky Fitness
DESCRIPTION:
DTSTAMP:20200301T222326Z
DTSTART:20190815
DTEND:20190816
LOCATION:
END:VEVENT
END:VCALENDAR
