BEGIN:VCALENDAR
VERSION:2.0
PRODID:millstreamcms
METHOD:PUBLISH
UID:4d1hagdp52c42m2ior375tdgeg@google.com
BEGIN:VEVENT
SUMMARY:NAPLAN Civics & Citizenship Assessment - selected Year 6 students
DESCRIPTION:
DTSTAMP:20200301T221001Z
DTSTART:20191024
DTEND:20191025
LOCATION:
END:VEVENT
END:VCALENDAR
