BEGIN:VCALENDAR
VERSION:2.0
PRODID:millstreamcms
METHOD:PUBLISH
UID:4fm77hrv682pc32gh05klba8le@google.com
BEGIN:VEVENT
SUMMARY:Kindy D & F Funky Fitness
DESCRIPTION:
DTSTAMP:20200301T222522Z
DTSTART:20190830
DTEND:20190831
LOCATION:
END:VEVENT
END:VCALENDAR
