BEGIN:VCALENDAR
VERSION:2.0
PRODID:millstreamcms
METHOD:PUBLISH
UID:4fn88utc7bhp2kui540se9t4c7@google.com
BEGIN:VEVENT
SUMMARY:Newsletter
DESCRIPTION:
DTSTAMP:20200301T224418Z
DTSTART:20190517
DTEND:20190518
LOCATION:
END:VEVENT
END:VCALENDAR
