BEGIN:VCALENDAR
VERSION:2.0
PRODID:millstreamcms
METHOD:PUBLISH
UID:4k9f65oq0ee3tm1adksv34g9m9@google.com
BEGIN:VEVENT
SUMMARY:Year 1 Water Corp Incursion
DESCRIPTION:
DTSTAMP:20200301T222504Z
DTSTART:20190828
DTEND:20190829
LOCATION:
END:VEVENT
END:VCALENDAR
