BEGIN:VCALENDAR
VERSION:2.0
PRODID:millstreamcms
METHOD:PUBLISH
UID:4mtfjvuq3s8cao681q36pulhj6@google.com
BEGIN:VEVENT
SUMMARY:S1 Pen Pal Excursion
DESCRIPTION:
DTSTAMP:20200301T220458Z
DTSTART:20191129
DTEND:20191130
LOCATION:
END:VEVENT
END:VCALENDAR
