BEGIN:VCALENDAR
VERSION:2.0
PRODID:millstreamcms
METHOD:PUBLISH
UID:4njslq04m87patmbdj3h3i81s0@google.com
BEGIN:VEVENT
SUMMARY:Kindy D & F Funky Fitness
DESCRIPTION:
DTSTAMP:20200301T221722Z
DTSTART:20190927
DTEND:20190928
LOCATION:
END:VEVENT
END:VCALENDAR
