BEGIN:VCALENDAR
VERSION:2.0
PRODID:millstreamcms
METHOD:PUBLISH
UID:4odr7uo8k1mabm9gb1m925t1to@google.com
BEGIN:VEVENT
SUMMARY:MLSHS 2020 Year 7 Orientation Day
DESCRIPTION:
DTSTAMP:20200301T215628Z
DTSTART:20191212
DTEND:20191213
LOCATION:
END:VEVENT
END:VCALENDAR
