BEGIN:VCALENDAR
VERSION:2.0
PRODID:millstreamcms
METHOD:PUBLISH
UID:4orj2rulkaffg96qu5lse9e6pk@google.com
BEGIN:VEVENT
SUMMARY:School Holidays
DESCRIPTION:
DTSTAMP:20200301T223047Z
DTSTART:20190710
DTEND:20190711
LOCATION:
END:VEVENT
END:VCALENDAR
