BEGIN:VCALENDAR
VERSION:2.0
PRODID:millstreamcms
METHOD:PUBLISH
UID:4paq0ijjh2mutr2q7i2a10g7tp@google.com
BEGIN:VEVENT
SUMMARY:Parent Workshop: Raising Resilient Children
DESCRIPTION:
DTSTAMP:20200301T223241Z
DTSTART:20190731T103000Z
DTEND:20190731T120000Z
LOCATION:
END:VEVENT
END:VCALENDAR
