BEGIN:VCALENDAR
VERSION:2.0
PRODID:millstreamcms
METHOD:PUBLISH
UID:4q23v5c7rdp30sss3ji10sn4ho@google.com
BEGIN:VEVENT
SUMMARY:Yirra Yakkin Performance
DESCRIPTION:
DTSTAMP:20200301T222213Z
DTSTART:20190802
DTEND:20190803
LOCATION:
END:VEVENT
END:VCALENDAR
