BEGIN:VCALENDAR
VERSION:2.0
PRODID:millstreamcms
METHOD:PUBLISH
UID:4ud9hglnrfjvoekqptk729oouq@google.com
BEGIN:VEVENT
SUMMARY:School Photos Years 1-6
DESCRIPTION:
DTSTAMP:20200301T221633Z
DTSTART:20190919
DTEND:20190920
LOCATION:
END:VEVENT
END:VCALENDAR
