BEGIN:VCALENDAR
VERSION:2.0
PRODID:millstreamcms
METHOD:PUBLISH
UID:530g5m0t8j98b51ji9ssap883d@google.com
BEGIN:VEVENT
SUMMARY:Go Red for Red Kite Day
DESCRIPTION:
DTSTAMP:20200301T223810Z
DTSTART:20190613
DTEND:20190614
LOCATION:
END:VEVENT
END:VCALENDAR
