BEGIN:VCALENDAR
VERSION:2.0
PRODID:millstreamcms
METHOD:PUBLISH
UID:54e3s20486dnct5di29tnvce5q@google.com
BEGIN:VEVENT
SUMMARY:Book Fair
DESCRIPTION:Book Fair opening hours: 8.15am - 8.45am and 3.00pm-3.30pm.
DTSTAMP:20200301T225446Z
DTSTART:20190311T003000Z
DTEND:20190315T013000Z
LOCATION:
END:VEVENT
END:VCALENDAR
