BEGIN:VCALENDAR
VERSION:2.0
PRODID:millstreamcms
METHOD:PUBLISH
UID:5oe3eck4n5sv6e5tgdah3k7qgb@google.com
BEGIN:VEVENT
SUMMARY:Pre Primary Funky Fitness
DESCRIPTION:
DTSTAMP:20200301T221017Z
DTSTART:20191030
DTEND:20191031
LOCATION:
END:VEVENT
END:VCALENDAR
