BEGIN:VCALENDAR
VERSION:2.0
PRODID:millstreamcms
METHOD:PUBLISH
UID:5oe3eck4n5sv6e5tgdah3k7qgb@google.com
BEGIN:VEVENT
SUMMARY:Pre Primary Funky Fitness
DESCRIPTION:
DTSTAMP:20200301T220437Z
DTSTART:20191127
DTEND:20191128
LOCATION:
END:VEVENT
END:VCALENDAR
