BEGIN:VCALENDAR
VERSION:2.0
PRODID:millstreamcms
METHOD:PUBLISH
UID:5qgmip1jagtuavuf7cv8nptmqb@google.com
BEGIN:VEVENT
SUMMARY:S6 Assembly (Aussie of the Month Awards)
DESCRIPTION:
DTSTAMP:20200301T222218Z
DTSTART:20190802
DTEND:20190803
LOCATION:
END:VEVENT
END:VCALENDAR
