BEGIN:VCALENDAR
VERSION:2.0
PRODID:millstreamcms
METHOD:PUBLISH
UID:5qn888mnmr2opc7jdvojkq5ior@google.com
BEGIN:VEVENT
SUMMARY:ICAS Maths online
DESCRIPTION:
DTSTAMP:20200301T221639Z
DTSTART:20190919
DTEND:20190920
LOCATION:
END:VEVENT
END:VCALENDAR
