BEGIN:VCALENDAR
VERSION:2.0
PRODID:millstreamcms
METHOD:PUBLISH
UID:5t50qqhojm0uraaimukm10cd4i@google.com
BEGIN:VEVENT
SUMMARY:School Development Day
DESCRIPTION:
DTSTAMP:20200301T225036Z
DTSTART:20190429
DTEND:20190430
LOCATION:
END:VEVENT
END:VCALENDAR
