BEGIN:VCALENDAR
VERSION:2.0
PRODID:millstreamcms
METHOD:PUBLISH
UID:63pab1haea5i0hf6mhhjpqhhmb@google.com
BEGIN:VEVENT
SUMMARY:Volunteers Morning Tea
DESCRIPTION:
DTSTAMP:20200301T215622Z
DTSTART:20191211T020000Z
DTEND:20191211T030000Z
LOCATION:
END:VEVENT
END:VCALENDAR
