BEGIN:VCALENDAR
VERSION:2.0
PRODID:millstreamcms
METHOD:PUBLISH
UID:6b4q2t9jouaog9ramikp11apet@google.com
BEGIN:VEVENT
SUMMARY:Personal Items list sent home
DESCRIPTION:
DTSTAMP:20200301T220448Z
DTSTART:20191128
DTEND:20191129
LOCATION:
END:VEVENT
END:VCALENDAR
