BEGIN:VCALENDAR
VERSION:2.0
PRODID:millstreamcms
METHOD:PUBLISH
UID:6ea3q9scu5g3fb9vvks79nvvuj_R20190501@google.com
BEGIN:VEVENT
SUMMARY:Edu Dance Lessons
DESCRIPTION:Edu Dance Lessons Years 1-6.
DTSTAMP:20200301T224451Z
DTSTART:20190529
DTEND:20190530
LOCATION:
END:VEVENT
END:VCALENDAR
