BEGIN:VCALENDAR
VERSION:2.0
PRODID:millstreamcms
METHOD:PUBLISH
UID:6eqt2j9gh66e0ffp9gtfqc0ao6@google.com
BEGIN:VEVENT
SUMMARY:M1, M2, M3 & M5 Water Corp Incursion
DESCRIPTION:
DTSTAMP:20200301T223235Z
DTSTART:20190731
DTEND:20190801
LOCATION:
END:VEVENT
END:VCALENDAR
