BEGIN:VCALENDAR
VERSION:2.0
PRODID:millstreamcms
METHOD:PUBLISH
UID:6l2kfub08lf4aqerj2nnn8lal9@google.com
BEGIN:VEVENT
SUMMARY:JB3 Assembly (Excellence Awards)
DESCRIPTION:
DTSTAMP:20200301T224434Z
DTSTART:20190524T005000Z
DTEND:20190524T013000Z
LOCATION:
END:VEVENT
END:VCALENDAR
