BEGIN:VCALENDAR
VERSION:2.0
PRODID:millstreamcms
METHOD:PUBLISH
UID:6p6q8hb5ucpt9po0nq84062tq5@google.com
BEGIN:VEVENT
SUMMARY:Students Return 2019 School Year
DESCRIPTION:
DTSTAMP:20200301T225922Z
DTSTART:20190204
DTEND:20190205
LOCATION:
END:VEVENT
END:VCALENDAR
