BEGIN:VCALENDAR
VERSION:2.0
PRODID:millstreamcms
METHOD:PUBLISH
UID:6pcapdkera34d8p54gh688kcjo@google.com
BEGIN:VEVENT
SUMMARY:Year 6 Incursion - Search for Safety
DESCRIPTION:
DTSTAMP:20200301T222516Z
DTSTART:20190829
DTEND:20190830
LOCATION:
END:VEVENT
END:VCALENDAR
