BEGIN:VCALENDAR
VERSION:2.0
PRODID:millstreamcms
METHOD:PUBLISH
UID:70a85s92vdehbjiqd8kk6hba2r@google.com
BEGIN:VEVENT
SUMMARY:Loud Shirt Day
DESCRIPTION:
DTSTAMP:20200301T220310Z
DTSTART:20191101
DTEND:20191102
LOCATION:
END:VEVENT
END:VCALENDAR
