BEGIN:VCALENDAR
VERSION:2.0
PRODID:millstreamcms
METHOD:PUBLISH
UID:71j72ffer215tdk44s28tk7ns5@google.com
BEGIN:VEVENT
SUMMARY:School Development Day
DESCRIPTION:
DTSTAMP:20200301T215715Z
DTSTART:20191220
DTEND:20191221
LOCATION:
END:VEVENT
END:VCALENDAR
