BEGIN:VCALENDAR
VERSION:2.0
PRODID:millstreamcms
METHOD:PUBLISH
UID:788a64onfh4drka3ch94did7bk@google.com
BEGIN:VEVENT
SUMMARY:School Photos K & PP
DESCRIPTION:
DTSTAMP:20200301T221612Z
DTSTART:20190917
DTEND:20190918
LOCATION:
END:VEVENT
END:VCALENDAR
