BEGIN:VCALENDAR
VERSION:2.0
PRODID:millstreamcms
METHOD:PUBLISH
UID:7btumq05ks1fae1q81t9hr507r@google.com
BEGIN:VEVENT
SUMMARY:Purple Haze Day
DESCRIPTION:
DTSTAMP:20200301T225457Z
DTSTART:20190314T010000Z
DTEND:20190314T070000Z
LOCATION:
END:VEVENT
END:VCALENDAR
