BEGIN:VCALENDAR
VERSION:2.0
PRODID:millstreamcms
METHOD:PUBLISH
UID:7dibg3l5sjktscvs7gt73edskj@google.com
BEGIN:VEVENT
SUMMARY:Book Award Assembly
DESCRIPTION:
DTSTAMP:20200301T215639Z
DTSTART:20191213T010000Z
DTEND:20191213T020000Z
LOCATION:
END:VEVENT
END:VCALENDAR
