BEGIN:VCALENDAR
VERSION:2.0
PRODID:millstreamcms
METHOD:PUBLISH
UID:7eolrmm8dtuqr7u392sk8ug9te@google.com
BEGIN:VEVENT
SUMMARY:Year 6 Graduation & Excursion
DESCRIPTION:
DTSTAMP:20200301T215707Z
DTSTART:20191219
DTEND:20191220
LOCATION:
END:VEVENT
END:VCALENDAR
