BEGIN:VCALENDAR
VERSION:2.0
PRODID:millstreamcms
METHOD:PUBLISH
UID:7jqg2ftdv7dv6jdtf68ubg3lsi@google.com
BEGIN:VEVENT
SUMMARY:S3 Assembly (Aussie of the Month & Excellence Awards)
DESCRIPTION:
DTSTAMP:20200301T223015Z
DTSTART:20190705T004500Z
DTEND:20190705T013000Z
LOCATION:
END:VEVENT
END:VCALENDAR
