BEGIN:VCALENDAR
VERSION:2.0
PRODID:millstreamcms
METHOD:PUBLISH
UID:7le4t278o2a5i8qc064q3iaok1@google.com
BEGIN:VEVENT
SUMMARY:School Holidays
DESCRIPTION:
DTSTAMP:20200301T220933Z
DTSTART:20190930
DTEND:20191014
LOCATION:
END:VEVENT
END:VCALENDAR
