BEGIN:VCALENDAR
VERSION:2.0
PRODID:millstreamcms
METHOD:PUBLISH
UID:7lo3uk5ro5kg1p37vj38pue6p7@google.com
BEGIN:VEVENT
SUMMARY:School Photos Years 1-6
DESCRIPTION:
DTSTAMP:20200301T221623Z
DTSTART:20190918
DTEND:20190919
LOCATION:
END:VEVENT
END:VCALENDAR
