BEGIN:VCALENDAR
VERSION:2.0
PRODID:millstreamcms
METHOD:PUBLISH
UID:7r3k2asrdidldalalqkef72qh3@google.com
BEGIN:VEVENT
SUMMARY:Faction Athletic Carnival
DESCRIPTION:
DTSTAMP:20200301T221535Z
DTSTART:20190906
DTEND:20190907
LOCATION:
END:VEVENT
END:VCALENDAR
