BEGIN:VCALENDAR
VERSION:2.0
PRODID:millstreamcms
METHOD:PUBLISH
UID:7sshb9qsjuhont2aa3bck6molj@google.com
BEGIN:VEVENT
SUMMARY:Year 5/6 Lunchtime Faction AFL
DESCRIPTION:
DTSTAMP:20200301T215611Z
DTSTART:20191206T043000Z
DTEND:20191206T050000Z
LOCATION:
END:VEVENT
END:VCALENDAR
